
BEGIN:VCALENDAR
VERSION:2.0
PRODID:-//Baltimore Mediation - ECPv6.15.12.2//NONSGML v1.0//EN
CALSCALE:GREGORIAN
METHOD:PUBLISH
X-WR-CALNAME:Baltimore Mediation
X-ORIGINAL-URL:https://www.baltimoremediation.com
X-WR-CALDESC:Events for Baltimore Mediation
REFRESH-INTERVAL;VALUE=DURATION:PT1H
X-Robots-Tag:noindex
X-PUBLISHED-TTL:PT1H
BEGIN:VTIMEZONE
TZID:America/New_York
BEGIN:DAYLIGHT
TZOFFSETFROM:-0500
TZOFFSETTO:-0400
TZNAME:EDT
DTSTART:20140309T070000
END:DAYLIGHT
BEGIN:STANDARD
TZOFFSETFROM:-0400
TZOFFSETTO:-0500
TZNAME:EST
DTSTART:20141102T060000
END:STANDARD
BEGIN:DAYLIGHT
TZOFFSETFROM:-0500
TZOFFSETTO:-0400
TZNAME:EDT
DTSTART:20150308T070000
END:DAYLIGHT
BEGIN:STANDARD
TZOFFSETFROM:-0400
TZOFFSETTO:-0500
TZNAME:EST
DTSTART:20151101T060000
END:STANDARD
BEGIN:DAYLIGHT
TZOFFSETFROM:-0500
TZOFFSETTO:-0400
TZNAME:EDT
DTSTART:20160313T070000
END:DAYLIGHT
BEGIN:STANDARD
TZOFFSETFROM:-0400
TZOFFSETTO:-0500
TZNAME:EST
DTSTART:20161106T060000
END:STANDARD
END:VTIMEZONE
BEGIN:VEVENT
DTSTART;TZID=America/New_York:20151110T090000
DTEND;TZID=America/New_York:20151110T130000
DTSTAMP:20260422T215109
CREATED:20151006T052648Z
LAST-MODIFIED:20151109T162716Z
UID:2451-1447146000-1447160400@www.baltimoremediation.com
SUMMARY:November 4-Hour Advanced Mediation CLE Training
DESCRIPTION:Registration is now closed for this event. For more information about our upcoming trainings\, please call the office at (443) 524-0833.\n\nRecent changes in Maryland law require all court-designated mediators in Maryland to receive a minimum of four (4) hours of continuing education toward excellence in providing mediator services. This is a certificated 4-hour course that provides advanced training for mediators and attorneys with a background in mediation. This course does not require previous mediation training\, but those new to the field of alternative conflict resolution can expand on what they learn in this course in one of our basic training events\, found here.\n\nThis training program was designed to provide an intensive experience to meet the requirements set forth by the new Rule 17-205\, (a) (5) that requires court-designated mediators to complete in each calendar year four hours of continuing mediation-related education\n\n	Understanding the Mediator’s Ethical Standards of Conduct: Self-Determination\n	Opening mediation sessions effectively\n	Working with counsel\n	Dealing with emotional barriers\n	Transformative conflict theory\n\n 
URL:https://www.baltimoremediation.com/event/november-4-hour-advanced-mediation-training-2/
LOCATION:PSA Insurance and Financial Services\, 11311 McCormick Road\, 5th Floor\, Hunt Valley\, MD\, 21031\, United States
CATEGORIES:Trainings & Workshops,CLE
END:VEVENT
END:VCALENDAR