
BEGIN:VCALENDAR
VERSION:2.0
PRODID:-//Baltimore Mediation - ECPv6.15.12.2//NONSGML v1.0//EN
CALSCALE:GREGORIAN
METHOD:PUBLISH
X-ORIGINAL-URL:https://www.baltimoremediation.com
X-WR-CALDESC:Events for Baltimore Mediation
REFRESH-INTERVAL;VALUE=DURATION:PT1H
X-Robots-Tag:noindex
X-PUBLISHED-TTL:PT1H
BEGIN:VTIMEZONE
TZID:America/New_York
BEGIN:DAYLIGHT
TZOFFSETFROM:-0500
TZOFFSETTO:-0400
TZNAME:EDT
DTSTART:20140309T070000
END:DAYLIGHT
BEGIN:STANDARD
TZOFFSETFROM:-0400
TZOFFSETTO:-0500
TZNAME:EST
DTSTART:20141102T060000
END:STANDARD
BEGIN:DAYLIGHT
TZOFFSETFROM:-0500
TZOFFSETTO:-0400
TZNAME:EDT
DTSTART:20150308T070000
END:DAYLIGHT
BEGIN:STANDARD
TZOFFSETFROM:-0400
TZOFFSETTO:-0500
TZNAME:EST
DTSTART:20151101T060000
END:STANDARD
BEGIN:DAYLIGHT
TZOFFSETFROM:-0500
TZOFFSETTO:-0400
TZNAME:EDT
DTSTART:20160313T070000
END:DAYLIGHT
BEGIN:STANDARD
TZOFFSETFROM:-0400
TZOFFSETTO:-0500
TZNAME:EST
DTSTART:20161106T060000
END:STANDARD
END:VTIMEZONE
BEGIN:VEVENT
DTSTART;TZID=America/New_York:20150728T090000
DTEND;TZID=America/New_York:20150728T130000
DTSTAMP:20260423T112446
CREATED:20150313T173813Z
LAST-MODIFIED:20150402T133031Z
UID:3351-1438074000-1438088400@www.baltimoremediation.com
SUMMARY:July 4-Hour Advanced Mediation & CLE Workshop
DESCRIPTION:Trainer: Louise Phipps Senft\, Esq.\n\nDate: Tuesday\, July 28\, 2015\n\n\nLocation: PSA Financial\, 11311 McCormick Road\, Hunt Valley\, MD\n\nCourse Fee: $225\n\nThis event has passed. Please try another! For more information\, call our office at (443) 524-0833 or send us an email at louise@baltimoremediation.com.\n\nDescription: Recent changes in Maryland law require all court-designated mediators in Maryland to receive a minimum of four (4) hours of continuing education toward excellence in providing mediator services. This is a certificated 4-hour course that provides advanced training for mediators and attorneys with a background in mediation. This training program was designed to provide an intensive experience to meet the requirements set forth by the new Rule 17-205\, (a) (5) that requires court-designated mediators to complete in each calendar year four hours of continuing mediation-related education\n\n	Understanding the Mediator’s Ethical Standards of Conduct: Self-Determination\n	Opening sessions\n	Working with counsel\n	Dealing with emotional barriers\n	Practical role play experience and individual coaching feedback on mediation practice\n\nTestimonials:  “Mediators of all stripes\, colors\, styles\, and fashions benefit from a Louise Phipps Senft workshop. There is something to the Transformative/Relational methodology which illuminates and informs even the most settlement-oriented venues. There is a power and a grace and a consistency to the Transformational/Relational perspective and method. In my experience it is the one which works. Take the workshops — money and time well spent.”- R. Henry Waldman\, Esq.\n\n“I recently attended Baltimore Mediation’s 4-Hour Advanced CLE Workshop\, and walked away with more than just my requisite training certificate; I learned new and valuable techniques and approaches that I look forward to applying to my very next mediation.”– Neil J. Bixler\, Esq. \n\n \n\n 
URL:https://www.baltimoremediation.com/event/july-8-hour-introduction-to-personality-conflict-enneagram-as-catalyst-workshop/
LOCATION:PSA Insurance and Financial Services\, 11311 McCormick Road\, 5th Floor\, Hunt Valley\, MD\, 21031\, United States
CATEGORIES:Trainings & Workshops,CLE
END:VEVENT
END:VCALENDAR